BEGIN:VCALENDAR
VERSION:2.0
PRODID:-//Tukios.com/
BEGIN:VEVENT
UID:610b8a09-0343-4ff3-b600-46d97d14e828@obituaries.greenhillsla.com
DTSTAMP:20260425T031725Z
DTSTART:20260429T233000Z
DTEND:20260430T033000Z
SUMMARY:Visitation
DESCRIPTION:
URL:https://obituaries.greenhillsla.com/tracy-dempsey
LOCATION: 27501 S Western Ave  Rancho Palos Verdes CA 90275
GEO:33.772515;-118.3125875
END:VEVENT
END:VCALENDAR