BEGIN:VCALENDAR
VERSION:2.0
PRODID:-//Tukios.com/
BEGIN:VEVENT
UID:9e86020c-0c70-4619-ba39-acb2a6ec735f@obituaries.greenhillsla.com
DTSTAMP:20260423T225353Z
DTSTART:20260504T193000Z
DTEND:20260504T203000Z
SUMMARY:Graveside Service
DESCRIPTION:
URL:https://obituaries.greenhillsla.com/tetsuo-takagi
LOCATION: 27501 S Western Ave  Rancho Palos Verdes CA 90275
GEO:33.7704685;-118.3098482
END:VEVENT
END:VCALENDAR