BEGIN:VCALENDAR
VERSION:2.0
PRODID:-//Tukios.com/
BEGIN:VEVENT
UID:f3849827-9b1f-48b8-b2c6-760d68f7469c@obituaries.greenhillsla.com
DTSTAMP:20260424T214543Z
DTSTART:20260501T193000Z
DTEND:20260501T203000Z
SUMMARY:Graveside Service
DESCRIPTION:
URL:https://obituaries.greenhillsla.com/patricia-romero
LOCATION: 27501 S Western Ave  Rancho Palos Verdes CA 90275
GEO:33.7704685;-118.3098482
END:VEVENT
END:VCALENDAR