BEGIN:VCALENDAR
VERSION:2.0
PRODID:-//Tukios.com/
BEGIN:VEVENT
UID:c0f6cada-f937-4a23-91c3-80aee8b5b357@obituaries.greenhillsla.com
DTSTAMP:20260420T210715Z
DTSTART:20260430T190000Z
DTEND:20260430T200000Z
SUMMARY:Graveside Service
DESCRIPTION:
URL:https://obituaries.greenhillsla.com/nancy-rados
LOCATION: 27501 S Western Ave  Rancho Palos Verdes CA 90275
GEO:33.7704685;-118.3098482
END:VEVENT
END:VCALENDAR