BEGIN:VCALENDAR
VERSION:2.0
PRODID:-//Tukios.com/
BEGIN:VEVENT
UID:3fc56bfb-dac4-4a6c-bb8a-fd6c95dd5ba7@obituaries.greenhillsla.com
DTSTAMP:20260422T031851Z
DTSTART:20260425T160000Z
DTEND:20260425T170000Z
SUMMARY:Funeral Service
DESCRIPTION:
URL:https://obituaries.greenhillsla.com/johanna-titus
LOCATION: 27501 S Western Ave  Rancho Palos Verdes CA 90275
GEO:33.772515;-118.3125875
END:VEVENT
END:VCALENDAR