BEGIN:VCALENDAR
VERSION:2.0
PRODID:-//Tukios.com/
BEGIN:VEVENT
UID:5b75371e-fb1a-4a0c-aa29-4e86132102ce@obituaries.greenhillsla.com
DTSTAMP:20260420T211043Z
DTSTART:20260502T221500Z
DTEND:20260502T231500Z
SUMMARY:Graveside Service
DESCRIPTION:
URL:https://obituaries.greenhillsla.com/dolores-vaccaro
LOCATION: 27501 S Western Ave  Rancho Palos Verdes CA 90275
GEO:33.7704685;-118.3098482
END:VEVENT
END:VCALENDAR