BEGIN:VCALENDAR
VERSION:2.0
PRODID:-//Tukios.com/
BEGIN:VEVENT
UID:38d073d3-d0a3-4410-8160-7891c6045ef6@obituaries.greenhillsla.com
DTSTAMP:20260420T211431Z
DTSTART:20260502T210000Z
DTEND:20260502T220000Z
SUMMARY:Funeral Service
DESCRIPTION:
URL:https://obituaries.greenhillsla.com/dolores-vaccaro
LOCATION: 27501 S Western Ave  Rancho Palos Verdes CA 90275
GEO:33.772515;-118.3125875
END:VEVENT
END:VCALENDAR