BEGIN:VCALENDAR
VERSION:2.0
PRODID:-//Tukios.com/
BEGIN:VEVENT
UID:a1343ce6-9e01-42f9-a680-cf6854f368dd@obituaries.greenhillsla.com
DTSTAMP:20260426T021747Z
DTSTART:20260516T210000Z
DTEND:20260516T220000Z
SUMMARY:Funeral Service
DESCRIPTION:
URL:https://obituaries.greenhillsla.com/celia-ramirez
LOCATION: 27501 S Western Ave  Rancho Palos Verdes CA 90275
GEO:33.772515;-118.3125875
END:VEVENT
END:VCALENDAR