BEGIN:VCALENDAR
VERSION:2.0
PRODID:-//Tukios.com/
BEGIN:VEVENT
UID:a26b49d3-b3a1-446d-aeab-6bc071cfb3f1@obituaries.greenhillsla.com
DTSTAMP:20260424T210328Z
DTSTART:20260425T170000Z
DTEND:20260425T190000Z
SUMMARY:Funeral Service
DESCRIPTION:
URL:https://obituaries.greenhillsla.com/blanca-herrera
LOCATION:International Pentecostal Church 10248 Alondra Blvd  Bellflower 
	CA 90706
GEO:33.8890323;-118.1156511
END:VEVENT
END:VCALENDAR