BEGIN:VCALENDAR
VERSION:2.0
PRODID:-//Tukios.com/
BEGIN:VEVENT
UID:4e7f65fc-a9a9-4eb6-9190-52ebace3da14@obituaries.greenhillsla.com
DTSTAMP:20260424T210854Z
DTSTART:20260424T210000Z
DTEND:20260425T010000Z
SUMMARY:Visitation
DESCRIPTION:
URL:https://obituaries.greenhillsla.com/blanca-herrera
LOCATION:International Pentecostal Church 10248 Alondra Blvd  Bellflower 
	CA 90706
GEO:33.8890323;-118.1156511
END:VEVENT
END:VCALENDAR